BEGIN:VCALENDAR
VERSION:2.0
PRODID:-//evstadtakademie//stadtakademie-muenchen.de//DE
METHOD:PUBLISH
CALSCALE:GREGORIAN
BEGIN:VEVENT
UID:9874@stadtakademie-muenchen.de
DTSTAMP:20260424T073406
DTSTART:20201104T190000
DTEND:20201104T203000
SUMMARY:Der neue Kulturstreit - Die Debatten über "kulturelle Aneignung" und "Cancel Culture"
LOCATION:Online via Zoom
DESCRIPTION:Details unter https://www.stadtakademie-muenchen.de/veranstaltung/der-neue-kulturstreit/
END:VEVENT
END:VCALENDAR