BEGIN:VCALENDAR
VERSION:2.0
PRODID:-//evstadtakademie//stadtakademie-muenchen.de//DE
METHOD:PUBLISH
CALSCALE:GREGORIAN
BEGIN:VEVENT
UID:9628@stadtakademie-muenchen.de
DTSTAMP:20260421T224702
DTSTART:20210102T153000
DTEND:20210102T235900
SUMMARY:Max Beckmann/Omer Fast "What can you see"
LOCATION:Online via Zoom
DESCRIPTION:Details unter https://www.stadtakademie-muenchen.de/veranstaltung/max-beckmann-omer-fast-what-can-you-see/
END:VEVENT
END:VCALENDAR