BEGIN:VCALENDAR
VERSION:2.0
PRODID:-//evstadtakademie//stadtakademie-muenchen.de//DE
METHOD:PUBLISH
CALSCALE:GREGORIAN
BEGIN:VEVENT
UID:9624@stadtakademie-muenchen.de
DTSTAMP:20260421T224348
DTSTART:20201205T153000
DTEND:20201205T235900
SUMMARY:Astrid Klein "Dass vollkommene Liebe die Angst austreibe"
LOCATION:Online via Zoom
DESCRIPTION:Details unter https://www.stadtakademie-muenchen.de/veranstaltung/astrid-klein-dass-vollkommene-liebe-die-angst-austreibe/
END:VEVENT
END:VCALENDAR