BEGIN:VCALENDAR
VERSION:2.0
PRODID:-//evstadtakademie//stadtakademie-muenchen.de//DE
METHOD:PUBLISH
CALSCALE:GREGORIAN
BEGIN:VEVENT
UID:9528@stadtakademie-muenchen.de
DTSTAMP:20260419T131338
DTSTART:20210114T190000
DTEND:20210114T235900
SUMMARY:Nach dem Wettbewerb: Wie geht es weiter mit dem Münchner Nordosten? - Welche Anforderungen der Stadtentwicklung müssen der Bahnausbau und das Mobilitätskonzept erfüllen?
LOCATION:Online via Zoom
DESCRIPTION:Details unter https://www.stadtakademie-muenchen.de/veranstaltung/welche-anforderungen-der-stadtentwicklung-muessen-der-bahnausbau-und-das-mobilitaetskonzept-erfuellen/
END:VEVENT
END:VCALENDAR