BEGIN:VCALENDAR
VERSION:2.0
PRODID:-//evstadtakademie//stadtakademie-muenchen.de//DE
METHOD:PUBLISH
CALSCALE:GREGORIAN
BEGIN:VEVENT
UID:9526@stadtakademie-muenchen.de
DTSTAMP:20260419T134340
DTSTART:20201208T190000
DTEND:20201208T235900
SUMMARY:Nach dem Wettbewerb: Wie geht es weiter mit dem Münchner Nordosten? - Welcher Raum bleibt für Klima- und Naturschutz, Naherholung und stadtnahe Landwirtschaft?
LOCATION:Online via Zoom
DESCRIPTION:Details unter https://www.stadtakademie-muenchen.de/veranstaltung/welcher-raum-bleibt-fuer-klima-und-naturschutz-naherholung-und-stadtnahe-landwirtschaft/
END:VEVENT
END:VCALENDAR