BEGIN:VCALENDAR
VERSION:2.0
PRODID:-//evstadtakademie//stadtakademie-muenchen.de//DE
METHOD:PUBLISH
CALSCALE:GREGORIAN
BEGIN:VEVENT
UID:9516@stadtakademie-muenchen.de
DTSTAMP:20260420T100837
DTSTART:20201203T190000
DTEND:20201203T235900
SUMMARY:Manifest für die Tiere - Buchvorstellung mit Corine Pelluchon
LOCATION:online via Zoom
DESCRIPTION:Details unter https://www.stadtakademie-muenchen.de/veranstaltung/manifest-fuer-die-tiere/
END:VEVENT
END:VCALENDAR