BEGIN:VCALENDAR
VERSION:2.0
PRODID:-//evstadtakademie//stadtakademie-muenchen.de//DE
METHOD:PUBLISH
CALSCALE:GREGORIAN
BEGIN:VEVENT
UID:9293@stadtakademie-muenchen.de
DTSTAMP:20260420T102002
DTSTART:20201021T190000
DTEND:20201021T235900
SUMMARY:Digitalisierung und Radikalisierung: Extremistische Täter im Zeitalter der neuen Technologien
LOCATION:Online via Zoom
DESCRIPTION:Details unter https://www.stadtakademie-muenchen.de/veranstaltung/radikale-verlierer-fragen-zur-psychologie-extremistischer-taeter/
END:VEVENT
END:VCALENDAR