BEGIN:VCALENDAR
VERSION:2.0
PRODID:-//evstadtakademie//stadtakademie-muenchen.de//DE
METHOD:PUBLISH
CALSCALE:GREGORIAN
BEGIN:VEVENT
UID:9273@stadtakademie-muenchen.de
DTSTAMP:20260421T163738
DTSTART:20200915T190000
DTEND:20200915T235900
SUMMARY:Kaltes Denken, warmes Denken - Über den Gegensatz von Macht und Empathie
LOCATION:Evangelische Stadtakademie München, Herzog-Wilhelm-Str. 24, 80331 München
DESCRIPTION:Details unter https://www.stadtakademie-muenchen.de/veranstaltung/kaltes-denken-warmes-denken/
END:VEVENT
END:VCALENDAR