BEGIN:VCALENDAR
VERSION:2.0
PRODID:-//evstadtakademie//stadtakademie-muenchen.de//DE
METHOD:PUBLISH
CALSCALE:GREGORIAN
BEGIN:VEVENT
UID:9018@stadtakademie-muenchen.de
DTSTAMP:20260424T121818
DTSTART:20200629T193000
DTEND:20200629T235900
SUMMARY:Livestream-Lesung: Was weiße Menschen nicht über Rassismus hören wollen, aber wissen sollten - Buchpräsentation mit der Autorin Alice Hasters
LOCATION:online via Youtube
DESCRIPTION:Details unter https://www.stadtakademie-muenchen.de/veranstaltung/livestream-lesung-was-weisse-menschen-nicht-ueber-rassismus-hoeren-wollen-aber-wissen-sollten/
END:VEVENT
END:VCALENDAR