BEGIN:VCALENDAR
VERSION:2.0
PRODID:-//evstadtakademie//stadtakademie-muenchen.de//DE
METHOD:PUBLISH
CALSCALE:GREGORIAN
BEGIN:VEVENT
UID:8973@stadtakademie-muenchen.de
DTSTAMP:20260424T121140
DTSTART:20200617T180000
DTEND:20200617T193000
SUMMARY:Corona - Stresstest für die Gesellschaft - (Wie) kann sich die moderne Gesellschaft auf ökologische Gefährdungen einstellen?
LOCATION:online via Zoom,  Zoom
DESCRIPTION:Details unter https://www.stadtakademie-muenchen.de/veranstaltung/corona-stresstest-fuer-die-gesellschaft/
END:VEVENT
END:VCALENDAR