BEGIN:VCALENDAR
VERSION:2.0
PRODID:-//evstadtakademie//stadtakademie-muenchen.de//DE
METHOD:PUBLISH
CALSCALE:GREGORIAN
BEGIN:VEVENT
UID:8807@stadtakademie-muenchen.de
DTSTAMP:20260424T122735
DTSTART:20200430T190000
DTEND:20200430T235900
SUMMARY:Pessach - Ostern - Ramadan: Wie virtuell können Religionen sein? - Ein interreligiöser Austausch im Jahr der Corona Erfahrung
LOCATION:online
DESCRIPTION:Details unter https://www.stadtakademie-muenchen.de/veranstaltung/pessach-ostern-ramadan-wie-virtuell-koennen-religionen-sein/
END:VEVENT
END:VCALENDAR