BEGIN:VCALENDAR
VERSION:2.0
PRODID:-//evstadtakademie//stadtakademie-muenchen.de//DE
METHOD:PUBLISH
CALSCALE:GREGORIAN
BEGIN:VEVENT
UID:8165@stadtakademie-muenchen.de
DTSTAMP:20260424T122333
DTSTART:20200325T190000
DTEND:20200325T235900
SUMMARY:Ein Jahr im Mittelalter - Wie Menschen lebten, liebten, glaubten
LOCATION:Evangelische Stadtakademie München, Herzog-Wilhelm-Str. 24, 80331 München
DESCRIPTION:Details unter https://www.stadtakademie-muenchen.de/veranstaltung/ein-jahr-im-mittelalter/
END:VEVENT
END:VCALENDAR