BEGIN:VCALENDAR
VERSION:2.0
PRODID:-//evstadtakademie//stadtakademie-muenchen.de//DE
METHOD:PUBLISH
CALSCALE:GREGORIAN
BEGIN:VEVENT
UID:8099@stadtakademie-muenchen.de
DTSTAMP:20260424T120428
DTSTART:20200311T190000
DTEND:20200311T235900
SUMMARY:Der Jude Jesus und die Zukunft des Christentums - Buchvorstellung und Gespräch
LOCATION:Karmelitersaal, Karmeliterstr. 1, 80333 München
DESCRIPTION:Details unter https://www.stadtakademie-muenchen.de/veranstaltung/der-jude-jesus-und-die-zukunft-des-christentums/
END:VEVENT
END:VCALENDAR