BEGIN:VCALENDAR
VERSION:2.0
PRODID:-//evstadtakademie//stadtakademie-muenchen.de//DE
METHOD:PUBLISH
CALSCALE:GREGORIAN
BEGIN:VEVENT
UID:7999@stadtakademie-muenchen.de
DTSTAMP:20260421T120759
DTSTART:20200314T140000
DTEND:20200314T180000
SUMMARY:Schöne Fotos aus der Hosentasche - Fotografieren mit dem Smartphone
LOCATION:Evangelische Stadtakademie München, Herzog-Wilhelm-Str. 24, 80331 München
DESCRIPTION:Details unter https://www.stadtakademie-muenchen.de/veranstaltung/schoene-fotos-aus-der-hosentasche-3/
END:VEVENT
END:VCALENDAR