BEGIN:VCALENDAR
VERSION:2.0
PRODID:-//evstadtakademie//stadtakademie-muenchen.de//DE
METHOD:PUBLISH
CALSCALE:GREGORIAN
BEGIN:VEVENT
UID:7515@stadtakademie-muenchen.de
DTSTAMP:20260423T111813
DTSTART:20200208T100000
DTEND:20200208T170000
SUMMARY:Mitleid - Empathie - Mitgefühl - Workshop zur sozialen Resonanz in helfenden Berufen
LOCATION:Evangelische Stadtakademie München, Herzog-Wilhelm-Str. 24, 80331 München
DESCRIPTION:Details unter https://www.stadtakademie-muenchen.de/veranstaltung/mitleid-empathie-mitgefuehl-2/
END:VEVENT
END:VCALENDAR