BEGIN:VCALENDAR
VERSION:2.0
PRODID:-//evstadtakademie//stadtakademie-muenchen.de//DE
METHOD:PUBLISH
CALSCALE:GREGORIAN
BEGIN:VEVENT
UID:7488@stadtakademie-muenchen.de
DTSTAMP:20260423T124948
DTSTART:20200217T190000
DTEND:20200217T235900
SUMMARY:Männerpalaver: Krankheit
LOCATION:Evangelische Stadtakademie München, Herzog-Wilhelm-Str. 24, 80331 München
DESCRIPTION:Details unter https://www.stadtakademie-muenchen.de/veranstaltung/maennerpalaver-krankheit/
END:VEVENT
END:VCALENDAR