BEGIN:VCALENDAR
VERSION:2.0
PRODID:-//evstadtakademie//stadtakademie-muenchen.de//DE
METHOD:PUBLISH
CALSCALE:GREGORIAN
BEGIN:VEVENT
UID:6175@stadtakademie-muenchen.de
DTSTAMP:20260422T103005
DTSTART:20190318T190000
DTEND:20190318T235900
SUMMARY:Was wäre denn gegen die Freiheit zu sagen? - Grundsätzliche Betrachtungen zu einem scheinbar eindeutig positiven Begriff
LOCATION:Evangelische Stadtakademie München, Herzog-Wilhelm-Str. 24, 80331 München
DESCRIPTION:Details unter https://www.stadtakademie-muenchen.de/veranstaltung/was-waere-denn-gegen-die-freiheit-zu-sagen/
END:VEVENT
END:VCALENDAR