BEGIN:VCALENDAR
VERSION:2.0
PRODID:-//evstadtakademie//stadtakademie-muenchen.de//DE
METHOD:PUBLISH
CALSCALE:GREGORIAN
BEGIN:VEVENT
UID:5778@stadtakademie-muenchen.de
DTSTAMP:20260422T132658
DTSTART:20191012T000000
DTEND:20191019T235900
SUMMARY:Der Sinn des Lebens - Philosophische Genussreise nach Kreta
LOCATION:Plakias,  Kreta
DESCRIPTION:Details unter https://www.stadtakademie-muenchen.de/veranstaltung/sinn-des-lebens/
END:VEVENT
END:VCALENDAR