BEGIN:VCALENDAR
VERSION:2.0
PRODID:-//evstadtakademie//stadtakademie-muenchen.de//DE
METHOD:PUBLISH
CALSCALE:GREGORIAN
BEGIN:VEVENT
UID:5743@stadtakademie-muenchen.de
DTSTAMP:20260422T145247
DTSTART:20190216T090000
DTEND:20190216T160000
SUMMARY:Mehr Mut zum Ich - Seminar für Frauen
LOCATION:Evangelische Stadtakademie München, Herzog-Wilhelm-Str. 24, 80331 München
DESCRIPTION:Details unter https://www.stadtakademie-muenchen.de/veranstaltung/mehr-mut-zum-ich/
END:VEVENT
END:VCALENDAR