BEGIN:VCALENDAR
VERSION:2.0
PRODID:-//evstadtakademie//stadtakademie-muenchen.de//DE
METHOD:PUBLISH
CALSCALE:GREGORIAN
BEGIN:VEVENT
UID:5685@stadtakademie-muenchen.de
DTSTAMP:20260419T121952
DTSTART:20190130T190000
DTEND:20190130T235900
SUMMARY:Weniger Markt, mehr Politik - Wie Europa rehabilitiert werden kann
LOCATION:Buchhandlung Lost Weekend, Schellingstr. 3, 80799 München
DESCRIPTION:Details unter https://www.stadtakademie-muenchen.de/veranstaltung/weniger-markt-mehr-politik/
END:VEVENT
END:VCALENDAR