BEGIN:VCALENDAR
VERSION:2.0
PRODID:-//evstadtakademie//stadtakademie-muenchen.de//DE
METHOD:PUBLISH
CALSCALE:GREGORIAN
BEGIN:VEVENT
UID:5599@stadtakademie-muenchen.de
DTSTAMP:20260422T193054
DTSTART:20181121T190000
DTEND:20181121T235900
SUMMARY:Großvater sein - Weshalb Enkel Großväter brauchen und wie Opas die zweite Chance nutzen
LOCATION:Evangelische Stadtakademie München, Herzog-Wilhelm-Str. 24, 80331 München
DESCRIPTION:Details unter https://www.stadtakademie-muenchen.de/veranstaltung/grossvater-sein/
END:VEVENT
END:VCALENDAR