BEGIN:VCALENDAR
VERSION:2.0
PRODID:-//evstadtakademie//stadtakademie-muenchen.de//DE
METHOD:PUBLISH
CALSCALE:GREGORIAN
BEGIN:VEVENT
UID:5593@stadtakademie-muenchen.de
DTSTAMP:20260419T121731
DTSTART:20181118T093000
DTEND:20181118T173000
SUMMARY:Fortbildung: Trauer-Ton - Die Trauer in die Hände und den Ton fließen lassen
LOCATION:Evangelische Stadtakademie München, Herzog-Wilhelm-Str. 24, 80331 München
DESCRIPTION:Details unter https://www.stadtakademie-muenchen.de/veranstaltung/fortbildung-trauer-ton/
END:VEVENT
END:VCALENDAR