BEGIN:VCALENDAR
VERSION:2.0
PRODID:-//evstadtakademie//stadtakademie-muenchen.de//DE
METHOD:PUBLISH
CALSCALE:GREGORIAN
BEGIN:VEVENT
UID:5569@stadtakademie-muenchen.de
DTSTAMP:20260419T121959
DTSTART:20181123T190000
DTEND:20181123T235900
SUMMARY:Streit ist auch keine Lösung - Wie man in der Partnerschaft das bekommt, was man wirklich will
LOCATION:Evangelische Stadtakademie München, Herzog-Wilhelm-Str. 24, 80331 München
DESCRIPTION:Details unter https://www.stadtakademie-muenchen.de/veranstaltung/streit-ist-auch-keine-loesung/
END:VEVENT
END:VCALENDAR