BEGIN:VCALENDAR
VERSION:2.0
PRODID:-//evstadtakademie//stadtakademie-muenchen.de//DE
METHOD:PUBLISH
CALSCALE:GREGORIAN
BEGIN:VEVENT
UID:5459@stadtakademie-muenchen.de
DTSTAMP:20260419T121650
DTSTART:20181112T190000
DTEND:20181119T213000
SUMMARY:Im Erledigungsmodus - Wege der Gestalttherapie aus dem To-Do-Dilemma
LOCATION:Evangelische Stadtakademie München, Herzog-Wilhelm-Str. 24, 80331 München
DESCRIPTION:Details unter https://www.stadtakademie-muenchen.de/veranstaltung/im-erledigungsmodus/
END:VEVENT
END:VCALENDAR