BEGIN:VCALENDAR
VERSION:2.0
PRODID:-//evstadtakademie//stadtakademie-muenchen.de//DE
METHOD:PUBLISH
CALSCALE:GREGORIAN
BEGIN:VEVENT
UID:5431@stadtakademie-muenchen.de
DTSTAMP:20260419T122035
DTSTART:20181011T190000
DTEND:20181011T235900
SUMMARY:Ökumene um jeden Preis? Ein Zwischenruf - Buchvorstellung
LOCATION:Erlöserkirche, Ungererstr. 13, 80802 München
DESCRIPTION:Details unter https://www.stadtakademie-muenchen.de/veranstaltung/oekumene-um-jeden-preis-ein-zwischenruf/
END:VEVENT
END:VCALENDAR