BEGIN:VCALENDAR
VERSION:2.0
PRODID:-//evstadtakademie//stadtakademie-muenchen.de//DE
METHOD:PUBLISH
CALSCALE:GREGORIAN
BEGIN:VEVENT
UID:5378@stadtakademie-muenchen.de
DTSTAMP:20260421T090456
DTSTART:20181006T153000
DTEND:20181006T235900
SUMMARY:Fotografie heute: Private Public Relations
LOCATION:St. Markus, Gabelsbergerstr. 6, 80333 München
DESCRIPTION:Details unter https://www.stadtakademie-muenchen.de/veranstaltung/fotografie-heute-private-public-relations/
END:VEVENT
END:VCALENDAR