BEGIN:VCALENDAR
VERSION:2.0
PRODID:-//evstadtakademie//stadtakademie-muenchen.de//DE
METHOD:PUBLISH
CALSCALE:GREGORIAN
BEGIN:VEVENT
UID:4676@stadtakademie-muenchen.de
DTSTAMP:20260423T162706
DTSTART:20180516T190000
DTEND:20180516T235900
SUMMARY:"Nichts ist, wie es scheint" - Über Verschwörungstheorien
LOCATION:Amerikahaus, Barer Str. 19a, 80333 München
DESCRIPTION:Details unter https://www.stadtakademie-muenchen.de/veranstaltung/nichts-ist-wie-es-scheint/
END:VEVENT
END:VCALENDAR