BEGIN:VCALENDAR
VERSION:2.0
PRODID:-//evstadtakademie//stadtakademie-muenchen.de//DE
METHOD:PUBLISH
CALSCALE:GREGORIAN
BEGIN:VEVENT
UID:4501@stadtakademie-muenchen.de
DTSTAMP:20260420T014554
DTSTART:20180130T190000
DTEND:20180130T235900
SUMMARY:Ritual & Freiheit
LOCATION:Karmeliterkirche, Karmeliterstr. 1, 80333 München
DESCRIPTION:Details unter https://www.stadtakademie-muenchen.de/veranstaltung/ritual-freiheit/
END:VEVENT
END:VCALENDAR