BEGIN:VCALENDAR
VERSION:2.0
PRODID:-//evstadtakademie//stadtakademie-muenchen.de//DE
METHOD:PUBLISH
CALSCALE:GREGORIAN
BEGIN:VEVENT
UID:4380@stadtakademie-muenchen.de
DTSTAMP:20260419T121556
DTSTART:20180209T193000
DTEND:20180209T235900
SUMMARY:Politik wird emotional - Zur Lage politischer Kommunikation im 21. Jahrhundert
LOCATION:Evangelische Stadtakademie München, Herzog-Wilhelm-Str. 24, 80331 München
DESCRIPTION:Details unter https://www.stadtakademie-muenchen.de/veranstaltung/politik-wird-emotional/
END:VEVENT
END:VCALENDAR