BEGIN:VCALENDAR
VERSION:2.0
PRODID:-//evstadtakademie//stadtakademie-muenchen.de//DE
METHOD:PUBLISH
CALSCALE:GREGORIAN
BEGIN:VEVENT
UID:4294@stadtakademie-muenchen.de
DTSTAMP:20260421T104713
DTSTART:20171210T081500
DTEND:20171210T183000
SUMMARY:Irdische Heilige - Adventlicher Pilgertag auf dem Jakobsweg von Vierkirchen nach Dachau
LOCATION:08.15 Uhr: S-Bahn-Gleis Hauptbahnhof München,  München
DESCRIPTION:Details unter https://www.stadtakademie-muenchen.de/veranstaltung/irdische-heilige/
END:VEVENT
END:VCALENDAR