BEGIN:VCALENDAR
VERSION:2.0
PRODID:-//evstadtakademie//stadtakademie-muenchen.de//DE
METHOD:PUBLISH
CALSCALE:GREGORIAN
BEGIN:VEVENT
UID:4286@stadtakademie-muenchen.de
DTSTAMP:20260419T121753
DTSTART:20171117T190000
DTEND:20171117T235900
SUMMARY:Minimal Actions, Juxtaposed: Efrat Natan and her Proximity
LOCATION:Villa Stuck, Prinzregentenstr. 60, 81675 München
DESCRIPTION:Details unter https://www.stadtakademie-muenchen.de/veranstaltung/minimal-actions-juxtaposed-efrat-natan-and-her-proximity/
END:VEVENT
END:VCALENDAR