BEGIN:VCALENDAR
VERSION:2.0
PRODID:-//evstadtakademie//stadtakademie-muenchen.de//DE
METHOD:PUBLISH
CALSCALE:GREGORIAN
BEGIN:VEVENT
UID:4237@stadtakademie-muenchen.de
DTSTAMP:20260419T121519
DTSTART:20171207T190000
DTEND:20171207T235900
SUMMARY:Buchvorstellung: Zwischen den Welten daheim - Brückenbauer zwischen Zen und Christentum
LOCATION:Evangelische Stadtakademie München, Herzog-Wilhelm-Str. 24, 80331 München
DESCRIPTION:Details unter https://www.stadtakademie-muenchen.de/veranstaltung/buchvorstellung-zwischen-den-welten-daheim/
END:VEVENT
END:VCALENDAR