BEGIN:VCALENDAR
VERSION:2.0
PRODID:-//evstadtakademie//stadtakademie-muenchen.de//DE
METHOD:PUBLISH
CALSCALE:GREGORIAN
BEGIN:VEVENT
UID:4233@stadtakademie-muenchen.de
DTSTAMP:20260419T121818
DTSTART:20171210T100000
DTEND:20171210T160000
SUMMARY:Die neue Lust am Denken - Vom Nutzen der Philosophie für das Leben
LOCATION:Evangelische Stadtakademie München, Herzog-Wilhelm-Str. 24, 80331 München
DESCRIPTION:Details unter https://www.stadtakademie-muenchen.de/veranstaltung/die-neue-lust-am-denken/
END:VEVENT
END:VCALENDAR