BEGIN:VCALENDAR
VERSION:2.0
PRODID:-//evstadtakademie//stadtakademie-muenchen.de//DE
METHOD:PUBLISH
CALSCALE:GREGORIAN
BEGIN:VEVENT
UID:4220@stadtakademie-muenchen.de
DTSTAMP:20260419T124230
DTSTART:20171130T190000
DTEND:20171130T235900
SUMMARY:Religionskritik und religiöse Pluralisierung im Hinduismus: Die Bhakti-Traditionen
LOCATION:Evangelische Stadtakademie München, Herzog-Wilhelm-Str. 24, 80331 München
DESCRIPTION:Details unter https://www.stadtakademie-muenchen.de/veranstaltung/religionskritik-und-religioese-pluralisierung-im-hinduismus-die-bhakti-traditionen/
END:VEVENT
END:VCALENDAR