BEGIN:VCALENDAR
VERSION:2.0
PRODID:-//evstadtakademie//stadtakademie-muenchen.de//DE
METHOD:PUBLISH
CALSCALE:GREGORIAN
BEGIN:VEVENT
UID:4207@stadtakademie-muenchen.de
DTSTAMP:20260419T121508
DTSTART:20171204T190000
DTEND:20171204T235900
SUMMARY:Demokratie stärken durch offene Debatten
LOCATION:Hochschule für Philosophie, Kaulbachstr. 31, 80539 München
DESCRIPTION:Details unter https://www.stadtakademie-muenchen.de/veranstaltung/demokratie-staerken-durch-offene-debatten/
END:VEVENT
END:VCALENDAR