BEGIN:VCALENDAR
VERSION:2.0
PRODID:-//evstadtakademie//stadtakademie-muenchen.de//DE
METHOD:PUBLISH
CALSCALE:GREGORIAN
BEGIN:VEVENT
UID:4200@stadtakademie-muenchen.de
DTSTAMP:20260419T121623
DTSTART:20171128T190000
DTEND:20171128T235900
SUMMARY:Trump und Putin, Nordafrika und der Nahe Osten - Wie wirken sich neue politische Konstellationen auf die Krisenregionen aus?
LOCATION:Evangelische Stadtakademie München, Herzog-Wilhelm-Str. 24, 80331 München
DESCRIPTION:Details unter https://www.stadtakademie-muenchen.de/veranstaltung/trump-und-putin-nordafrika-und-der-nahe-osten/
END:VEVENT
END:VCALENDAR