BEGIN:VCALENDAR
VERSION:2.0
PRODID:-//evstadtakademie//stadtakademie-muenchen.de//DE
METHOD:PUBLISH
CALSCALE:GREGORIAN
BEGIN:VEVENT
UID:4174@stadtakademie-muenchen.de
DTSTAMP:20260422T115142
DTSTART:20171027T200000
DTEND:20171027T213000
SUMMARY:Rund um Luther - Fundstücke - Zusammengestellt und gelesen von Jovita Dermota
LOCATION:St. Markus, Gabelsbergerstr. 6, 80333 München
DESCRIPTION:Details unter https://www.stadtakademie-muenchen.de/veranstaltung/rund-um-luther-fundstuecke/
END:VEVENT
END:VCALENDAR