BEGIN:VCALENDAR
VERSION:2.0
PRODID:-//evstadtakademie//stadtakademie-muenchen.de//DE
METHOD:PUBLISH
CALSCALE:GREGORIAN
BEGIN:VEVENT
UID:4157@stadtakademie-muenchen.de
DTSTAMP:20260419T123605
DTSTART:20171024T180000
DTEND:20171024T190000
SUMMARY:Das Heilige im Profanen. Rembrandts Heilige Familie trifft auf Dürers Selbstbildnis
LOCATION:Alte Pinakothek, Barer Str. 27, 80333 München
DESCRIPTION:Details unter https://www.stadtakademie-muenchen.de/veranstaltung/das-heilige-im-profanen-rembrandts-heilige-familie-trifft-auf-duerers-selbstbildnis/
END:VEVENT
END:VCALENDAR