BEGIN:VCALENDAR
VERSION:2.0
PRODID:-//evstadtakademie//stadtakademie-muenchen.de//DE
METHOD:PUBLISH
CALSCALE:GREGORIAN
BEGIN:VEVENT
UID:4154@stadtakademie-muenchen.de
DTSTAMP:20260421T102553
DTSTART:20171113T190000
DTEND:20171211T210000
SUMMARY:Entdecke den Clown in dir - Begegnung mit überraschenden Potenzialen
LOCATION:Evangelische Stadtakademie München, Herzog-Wilhelm-Str. 24, 80331 München
DESCRIPTION:Details unter https://www.stadtakademie-muenchen.de/veranstaltung/entdecke-den-clown-in-dir/
END:VEVENT
END:VCALENDAR