BEGIN:VCALENDAR
VERSION:2.0
PRODID:-//evstadtakademie//stadtakademie-muenchen.de//DE
METHOD:PUBLISH
CALSCALE:GREGORIAN
BEGIN:VEVENT
UID:4091@stadtakademie-muenchen.de
DTSTAMP:20260419T122126
DTSTART:20171011T190000
DTEND:20171011T235900
SUMMARY:Religionskritik als Dimension der Religion
LOCATION:Hauptgebäude der LMU, HS M110, Geschwister-Scholl-Platz 1, 80799 München
DESCRIPTION:Details unter https://www.stadtakademie-muenchen.de/veranstaltung/religionskritik-als-dimension-der-religion/
END:VEVENT
END:VCALENDAR