BEGIN:VCALENDAR
VERSION:2.0
PRODID:-//evstadtakademie//stadtakademie-muenchen.de//DE
METHOD:PUBLISH
CALSCALE:GREGORIAN
BEGIN:VEVENT
UID:4059@stadtakademie-muenchen.de
DTSTAMP:20260419T123741
DTSTART:20171013T100000
DTEND:20171013T130000
SUMMARY:Politische Bildung in Zeiten des Rechtspopulismus
LOCATION:BayernForum der Friedrich-Ebert-Stiftung, Herzog-Wilhelm-Str. 1, 80331 München
DESCRIPTION:Details unter https://www.stadtakademie-muenchen.de/veranstaltung/politische-bildung-in-zeiten-des-rechtspopulismus/
END:VEVENT
END:VCALENDAR