BEGIN:VCALENDAR
VERSION:2.0
PRODID:-//evstadtakademie//stadtakademie-muenchen.de//DE
METHOD:PUBLISH
CALSCALE:GREGORIAN
BEGIN:VEVENT
UID:4054@stadtakademie-muenchen.de
DTSTAMP:20260421T104940
DTSTART:20170928T173000
DTEND:20170928T183000
SUMMARY:Anselm Kiefer. Die zwölf Stämme (2010)
LOCATION:Pinakothek der Moderne (Treffpunkt Foyer), Barer Str. 40, 80333 München
DESCRIPTION:Details unter https://www.stadtakademie-muenchen.de/veranstaltung/anselm-kiefer-die-zwoelf-staemme-2010/
END:VEVENT
END:VCALENDAR