BEGIN:VCALENDAR
VERSION:2.0
PRODID:-//evstadtakademie//stadtakademie-muenchen.de//DE
METHOD:PUBLISH
CALSCALE:GREGORIAN
BEGIN:VEVENT
UID:20773@stadtakademie-muenchen.de
DTSTAMP:20260422T134009
DTSTART:20261030T160000
DTEND:20261030T210000
SUMMARY:Raumgestaltung kommunikativ und spirituell - Seminartag auf Basis der Gewaltfreien Kommunikation (GFK)
LOCATION:Evangelische Stadtakademie, Herzog-Wilhelm-Str. 24, 80331 München
DESCRIPTION:Details unter https://www.stadtakademie-muenchen.de/veranstaltung/raumgestaltung-kommunikativ-und-spirituell-3/
END:VEVENT
END:VCALENDAR