BEGIN:VCALENDAR
VERSION:2.0
PRODID:-//evstadtakademie//stadtakademie-muenchen.de//DE
METHOD:PUBLISH
CALSCALE:GREGORIAN
BEGIN:VEVENT
UID:20769@stadtakademie-muenchen.de
DTSTAMP:20260421T235649
DTSTART:20260421T000000
DTEND:20260421T235900
SUMMARY:Wenn der Körper spricht - Schmerzen, Erschöpfung und psychosomatische Symptome verstehen
LOCATION:
DESCRIPTION:Details unter https://www.stadtakademie-muenchen.de/veranstaltung/wenn-der-koerper-spricht/
END:VEVENT
END:VCALENDAR