BEGIN:VCALENDAR
VERSION:2.0
PRODID:-//evstadtakademie//stadtakademie-muenchen.de//DE
METHOD:PUBLISH
CALSCALE:GREGORIAN
BEGIN:VEVENT
UID:20563@stadtakademie-muenchen.de
DTSTAMP:20260420T144652
DTSTART:20260420T190000
DTEND:20260420T203000
SUMMARY:Yoga: Zurück zu Dir - Dein Moment, dein Fokus
LOCATION:Evangelische Stadtakademie, Herzog-Wilhelm-Str. 24, 80331 München
DESCRIPTION:Details unter https://www.stadtakademie-muenchen.de/veranstaltung/yoga-zurueck-zu-dir/
END:VEVENT
END:VCALENDAR