BEGIN:VCALENDAR
VERSION:2.0
PRODID:-//evstadtakademie//stadtakademie-muenchen.de//DE
METHOD:PUBLISH
CALSCALE:GREGORIAN
BEGIN:VEVENT
UID:20310@stadtakademie-muenchen.de
DTSTAMP:20260420T001421
DTSTART:20260707T180000
DTEND:20260707T203000
SUMMARY:Wie lernt der Mensch? - Herausforderungen und Perspektivem im digitalen Zeitalter
LOCATION:Evangelische Stadtakademie, Herzog-Wilhelm-Str. 24, 80333 München
DESCRIPTION:Details unter https://www.stadtakademie-muenchen.de/veranstaltung/wie-lernt-der-mensch/
END:VEVENT
END:VCALENDAR