BEGIN:VCALENDAR
VERSION:2.0
PRODID:-//evstadtakademie//stadtakademie-muenchen.de//DE
METHOD:PUBLISH
CALSCALE:GREGORIAN
BEGIN:VEVENT
UID:20295@stadtakademie-muenchen.de
DTSTAMP:20260420T002446
DTSTART:20260703T190000
DTEND:20260703T203000
SUMMARY:Menschlichkeit in digitalen Zeiten - Warum die Ideen des Silicon Valley nicht zum Menschen passen
LOCATION:Evangelische Stadtakademie, Herzog-Wilhelm-Str. 24, 80331 München
DESCRIPTION:Details unter https://www.stadtakademie-muenchen.de/veranstaltung/menschlichkeit-in-digitalen-zeiten/
END:VEVENT
END:VCALENDAR