BEGIN:VCALENDAR
VERSION:2.0
PRODID:-//evstadtakademie//stadtakademie-muenchen.de//DE
METHOD:PUBLISH
CALSCALE:GREGORIAN
BEGIN:VEVENT
UID:20283@stadtakademie-muenchen.de
DTSTAMP:20260420T003635
DTSTART:20260620T100000
DTEND:20260620T150000
SUMMARY:Raumgestaltung kommunikativ und spirituell - Seminartag auf Basis der Gewaltfreien Kommunikation (GFK)
LOCATION:Evangelische Stadtakademie, Herzog-Wilhelm-Str. 24, 80331 München
DESCRIPTION:Details unter https://www.stadtakademie-muenchen.de/veranstaltung/raumgestaltung-kommunikativ-und-spirituell/
END:VEVENT
END:VCALENDAR