BEGIN:VCALENDAR
VERSION:2.0
PRODID:-//evstadtakademie//stadtakademie-muenchen.de//DE
METHOD:PUBLISH
CALSCALE:GREGORIAN
BEGIN:VEVENT
UID:19933@stadtakademie-muenchen.de
DTSTAMP:20260419T123921
DTSTART:20260319T183000
DTEND:20260319T213000
SUMMARY:Patientenverfügung und Vorsorgevollmacht - wie geht das?
LOCATION:Online via Zoom
DESCRIPTION:Details unter https://www.stadtakademie-muenchen.de/veranstaltung/patientenverfuegung-und-vorsorgevollmacht-wie-geht-das-7/
END:VEVENT
END:VCALENDAR