BEGIN:VCALENDAR
VERSION:2.0
PRODID:-//evstadtakademie//stadtakademie-muenchen.de//DE
METHOD:PUBLISH
CALSCALE:GREGORIAN
BEGIN:VEVENT
UID:19926@stadtakademie-muenchen.de
DTSTAMP:20260419T122519
DTSTART:20260310T190000
DTEND:20260324T210000
SUMMARY:Libertäres Denken: Der (Alb)Traum von der totalen Freiheit - Beginn des dreiteiligen Online-Seminars
LOCATION:Online via Zoom
DESCRIPTION:Details unter https://www.stadtakademie-muenchen.de/veranstaltung/libertaeres-denken-der-albtraum-von-der-totalen-freiheit/
END:VEVENT
END:VCALENDAR